BEGIN:VCALENDAR
VERSION:2.0
METHOD:PUBLISH
BEGIN:VEVENT
DTSTART:20200229T130000
DTEND:20200229T133000
LOCATION:59 Delepan Drive Tyabb, VIC 3913
TRANSP: OPAQUE
SEQUENCE:0
UID:
DTSTAMP:20200226T124135Z
SUMMARY:Home Open - Calling All First Home Buyers &#x2013; The Perfect Entry Level Property
DESCRIPTION:A solid brick veneer home set on approximately 607sqm, presenting the ideal starter for those looking to break into the property market.
Recently renovated throughout and boasting a flowing floor plan, complete with timber look tiles and new carpet, this property offers the perfect space for families or anyone who loves to entertain.
~ Three bedrooms, master with built in robes.
~ Newly installed kitchen, complete with electric oven and Fisher and Paykel dishwasher and large corner pantry.
~ Sleek built in entertainment unit in the living room offers ample storage space and a stylish finish to the room.
~ European laundry, providing functionality and saving on space!
~ Climate controlled with ducted heating and air conditioning as well as a coonara wood fire.
~ Fully renovated bathroom with walk in shower and freestanding bath.
~ Double carport with rear access.
~ Large 11.5x7.5m garage at the rear of the property, complete with mezzanine storage and it's own self contained segment, offering a fully functional bathroom and direct access to the backyard.
Agent Details
Lisa Roberts
Mobile: 0488 910 368
Phone: 03 5979 2489
Email: Contact
PRIORITY:1
CLASS:PUBLIC
BEGIN:VALARM
TRIGGER:-PT10080M
ACTION:DISPLAY
DESCRIPTION:Reminder
END:VALARM
END:VEVENT
END:VCALENDAR
