BEGIN:VCALENDAR
VERSION:2.0
METHOD:PUBLISH
BEGIN:VEVENT
DTSTART:20200229T140000
DTEND:20200229T143000
LOCATION:30 Olivia Way Hastings, VIC 3915
TRANSP: OPAQUE
SEQUENCE:0
UID:
DTSTAMP:20200226T125101Z
SUMMARY:Home Open - Modern Design With Three Living Zones In A Family Friendly Pocket
DESCRIPTION:Designed and crafted for modern comfort and carefree family living, this spacious residence is the perfect addition to your investment portfolio. 

Enjoy a lifestyle of comfort and convenience, adjacent to a lovely reserve, and with Western Port Secondary College minutes away, and the town centre & public transport nearby.

~ Enormous master bedroom consisting of a walk-in-robe and ensuite.
~ Three remaining bedrooms are both spacious and feature walk-in-robes.
~ Open plan lounge, dining and kitchen with a Whirlpool dishwasher, Chef oven and a double fridge cavity. 
~ Two additional living spaces, one of which could easily be converted into a fourth bedroom.
~ Ducted heating throughout. 
~ Side access to the rear yard to safely store a boat or trailer.
~ Double garage with internal access and easy care landscaping.

* Garden shed is not included in the sale.
Agent Details
Lisa Roberts
Mobile: 0488 910 368
Phone: 03 5979 2489
Email: Contact
PRIORITY:1
CLASS:PUBLIC
BEGIN:VALARM
TRIGGER:-PT10080M
ACTION:DISPLAY
DESCRIPTION:Reminder
END:VALARM
END:VEVENT
END:VCALENDAR
