BEGIN:VCALENDAR
VERSION:2.0
METHOD:PUBLISH
BEGIN:VEVENT
DTSTART:20200229T100000
DTEND:20200229T103000
LOCATION:70/240 High Street Hastings, VIC 3915
TRANSP: OPAQUE
SEQUENCE:0
UID:
DTSTAMP:20200226T124814Z
SUMMARY:Home Open - Luxurious Over 50's Living
DESCRIPTION:If you're looking for a luxurious over 50's way of life, then a visit to this unit in the Hastings Lifestyle Community is a must. The gated complex offers a heated pool and spa, gym, bowling green, big screen cinema to simply name a few of the resort-style living facilities at your doorstep. With a wonderful floorplan for entertaining, this two-bedroom, two living zoned unit is your entry to a life of holidaying all year round. 

&#x2022;	Kitchen contains stone bench tops and Westinghouse stainless-steel appliances 
&#x2022;	Both bedrooms with build-in mirrored robes
&#x2022;	En-suite/Master bathroom with a second toilet
&#x2022;	Climate controlled with a slit system heating/cooling unit in the living room
&#x2022;	Large covered alfresco entertaining area
&#x2022;	Low maintenance garden
&#x2022;	Colourbond garden shed with concrete floor
&#x2022;	NBN enabled
Agent Details
Wilma Green
Mobile: 0407 833 996
Phone: 03 5979 2489
Email: Contact
PRIORITY:1
CLASS:PUBLIC
BEGIN:VALARM
TRIGGER:-PT10080M
ACTION:DISPLAY
DESCRIPTION:Reminder
END:VALARM
END:VEVENT
END:VCALENDAR
