BEGIN:VCALENDAR
VERSION:2.0
METHOD:PUBLISH
BEGIN:VEVENT
DTSTART:20200229T110000
DTEND:20200229T113000
LOCATION:26 Johnson Street Balnarring, VIC 3926
TRANSP: OPAQUE
SEQUENCE:0
UID:
DTSTAMP:20200226T123933Z
SUMMARY:Home Open - A Private Sanctuary Set Amongst Tranquil Bush Surrounds
DESCRIPTION:Located in one of the Peninsula's favourite beachside towns, this much-loved residence is just waiting for a new family to fall in love!
Set on a generous 2158sqm (approx.) allotment and with its light-filled and flowing interior, this home offers an abundance of space for a growing family both inside and out.
Creating a sense of peace and seclusion, yet still within close proximity to shops, schools and transport, you will immediately find yourself feeling relaxed, accompanied by the local wildlife that also call this haven home.
~ Expansive living and dining area with stunning hard wood floors.
~ Gourmet kitchen equipped with Westinghouse gas cooktop, built in oven, dishwasher and generous island bench.
~ Zoned master bedroom with spacious ensuite complete with large shower and double vanity and walk in robes.
~ Further two bedrooms each with built-in-robes.
~ Main bathroom with shower over bath.
~ Home office with ample storage space.
~ Newly constructed art studio/theatre room at the rear of the home.
~ Sprawling child-friendly backyard with double-gate side access.
~ Double carport.
~ Embellished with an array of native plants.

* Vendor will consider offers prior to Auction.
Agent Details
Lisa Roberts
Mobile: 0488 910 368
Phone: 03 5979 2489
Email: Contact
PRIORITY:1
CLASS:PUBLIC
BEGIN:VALARM
TRIGGER:-PT10080M
ACTION:DISPLAY
DESCRIPTION:Reminder
END:VALARM
END:VEVENT
END:VCALENDAR
